BEGIN:VCALENDAR
VERSION:2.0
PRODID:-//Elk Ridge Ward - ECPv6.15.20//NONSGML v1.0//EN
CALSCALE:GREGORIAN
METHOD:PUBLISH
X-ORIGINAL-URL:https://elkridgepark.org
X-WR-CALDESC:Events for Elk Ridge Ward
REFRESH-INTERVAL;VALUE=DURATION:PT1H
X-Robots-Tag:noindex
X-PUBLISHED-TTL:PT1H
BEGIN:VTIMEZONE
TZID:America/Denver
BEGIN:DAYLIGHT
TZOFFSETFROM:-0700
TZOFFSETTO:-0600
TZNAME:MDT
DTSTART:20190310T090000
END:DAYLIGHT
BEGIN:STANDARD
TZOFFSETFROM:-0600
TZOFFSETTO:-0700
TZNAME:MST
DTSTART:20191103T080000
END:STANDARD
BEGIN:DAYLIGHT
TZOFFSETFROM:-0700
TZOFFSETTO:-0600
TZNAME:MDT
DTSTART:20200308T090000
END:DAYLIGHT
BEGIN:STANDARD
TZOFFSETFROM:-0600
TZOFFSETTO:-0700
TZNAME:MST
DTSTART:20201101T080000
END:STANDARD
BEGIN:DAYLIGHT
TZOFFSETFROM:-0700
TZOFFSETTO:-0600
TZNAME:MDT
DTSTART:20210314T090000
END:DAYLIGHT
BEGIN:STANDARD
TZOFFSETFROM:-0600
TZOFFSETTO:-0700
TZNAME:MST
DTSTART:20211107T080000
END:STANDARD
BEGIN:DAYLIGHT
TZOFFSETFROM:-0700
TZOFFSETTO:-0600
TZNAME:MDT
DTSTART:20220313T090000
END:DAYLIGHT
BEGIN:STANDARD
TZOFFSETFROM:-0600
TZOFFSETTO:-0700
TZNAME:MST
DTSTART:20221106T080000
END:STANDARD
END:VTIMEZONE
BEGIN:VEVENT
DTSTART;VALUE=DATE:20210828
DTEND;VALUE=DATE:20210829
DTSTAMP:20260419T143835
CREATED:20210725T195816Z
LAST-MODIFIED:20210725T195816Z
UID:1705-1630108800-1630195199@elkridgepark.org
SUMMARY:Stake Primary Faith in God Camp: “Jesus is My Rock”
DESCRIPTION:Saturday\, August 28\, 2021 \nNorth Logan Stake Center | 2750 North 800 East \n9:00 a.m.-11:30 a.m. | Ages 8-9* \n12:30 p.m.-3:00 p.m. | Ages 10-11* \n*The age the child is OR is turning in 2021
URL:https://elkridgepark.org/event/stake-primary-faith-in-god-camp-jesus-is-my-rock/
LOCATION:North Logan Stake Center\, 2750 North 800 East\, North Logan\, UT\, 84341\, United States
CATEGORIES:Primary
END:VEVENT
BEGIN:VEVENT
DTSTART;VALUE=DATE:20210405
DTEND;VALUE=DATE:20210410
DTSTAMP:20260419T143835
CREATED:20210307T025249Z
LAST-MODIFIED:20210307T025249Z
UID:1571-1617580800-1618012799@elkridgepark.org
SUMMARY:Spring Break
DESCRIPTION:
URL:https://elkridgepark.org/event/spring-break/
LOCATION:UT
CATEGORIES:Primary,Young Men,Young Women
END:VEVENT
BEGIN:VEVENT
DTSTART;TZID=America/Denver:20210220T110000
DTEND;TZID=America/Denver:20210220T120000
DTSTAMP:20260419T143835
CREATED:20210207T181923Z
LAST-MODIFIED:20210207T181923Z
UID:1530-1613818800-1613822400@elkridgepark.org
SUMMARY:Friend to Friend Broadcast for Children
DESCRIPTION:Children ages 3–11\, parents\, and Primary leaders and teachers are invited to participate in a Friend to Friend event\, a Face-to-Face-styled broadcast for children. The event will include music and activities as well as messages by members of the Primary General Presidency\, Elder Ulisses Soares\, and President Russell M. Nelson. \nThis event will be available to view beginning on Saturday\, February 20\, 2021\, at 11:00 a.m. \nThis event will also be available to view or download anytime after its initial launch. The event will be broadcast on ChurchofJesusChrist.org\, Facebook\, YouTube\, BYUtv\, and other media. The link to the Church’s page dedicated to this event is included below. \nFriend to Friend Broadcast
URL:https://elkridgepark.org/event/friend-to-friend-broadcast-for-children/
LOCATION:UT
CATEGORIES:Primary
END:VEVENT
BEGIN:VEVENT
DTSTART;TZID=America/Denver:20200320T150000
DTEND;TZID=America/Denver:20200320T160000
DTSTAMP:20260419T143835
CREATED:20200307T165027Z
LAST-MODIFIED:20200307T204944Z
UID:913-1584716400-1584720000@elkridgepark.org
SUMMARY:Service Project\, Primary Boys (2011-2012)
DESCRIPTION:Service project: passing out bags for food drive.
URL:https://elkridgepark.org/event/primary-boys-2011-and-2012-2/
LOCATION:UT
CATEGORIES:Primary
END:VEVENT
BEGIN:VEVENT
DTSTART;TZID=America/Denver:20200313T193000
DTEND;TZID=America/Denver:20200313T203000
DTSTAMP:20260419T143835
CREATED:20200307T204816Z
LAST-MODIFIED:20200307T204816Z
UID:915-1584127800-1584131400@elkridgepark.org
SUMMARY:Daddy-Daughter Date\, Primary Girls (2009-2010)
DESCRIPTION:
URL:https://elkridgepark.org/event/daddy-daughter-date-primary-girls-2009-2010/
LOCATION:UT
CATEGORIES:Primary
END:VEVENT
BEGIN:VEVENT
DTSTART;TZID=America/Denver:20200313T150000
DTEND;TZID=America/Denver:20200313T163000
DTSTAMP:20260419T143835
CREATED:20200307T164932Z
LAST-MODIFIED:20200307T205016Z
UID:911-1584111600-1584117000@elkridgepark.org
SUMMARY:Board Games\, Primary Boys (2011-2012)
DESCRIPTION:Board games!
URL:https://elkridgepark.org/event/primary-boys-2011-and-2012/
LOCATION:East Building\, 1650 East 2600 North\, North Logan\, UT\, 84341\, United States
CATEGORIES:Primary
END:VEVENT
BEGIN:VEVENT
DTSTART;TZID=America/Denver:20200223T160000
DTEND;TZID=America/Denver:20200223T173000
DTSTAMP:20260419T143835
CREATED:20200209T225214Z
LAST-MODIFIED:20200210T004109Z
UID:681-1582473600-1582479000@elkridgepark.org
SUMMARY:Face to Face Event\, Children and Youth Program
DESCRIPTION:President and Sister Oaks will be hosting a Face to Face vent on the new Children and Youth program to share ideas about how to be successful in becoming more like Christ through this inspired effort. The event will begin at 4 PM\, and will be available through the Church’s website\, it’s Facebook page\, and YouTube.
URL:https://elkridgepark.org/event/face-to-face-event-children-and-youth-program/
LOCATION:UT
CATEGORIES:Primary,Ward,Young Men,Young Women
END:VEVENT
END:VCALENDAR