BEGIN:VCALENDAR
VERSION:2.0
PRODID:-//Elk Ridge Ward - ECPv6.15.20//NONSGML v1.0//EN
CALSCALE:GREGORIAN
METHOD:PUBLISH
X-ORIGINAL-URL:https://elkridgepark.org
X-WR-CALDESC:Events for Elk Ridge Ward
REFRESH-INTERVAL;VALUE=DURATION:PT1H
X-Robots-Tag:noindex
X-PUBLISHED-TTL:PT1H
BEGIN:VTIMEZONE
TZID:America/Denver
BEGIN:DAYLIGHT
TZOFFSETFROM:-0700
TZOFFSETTO:-0600
TZNAME:MDT
DTSTART:20190310T090000
END:DAYLIGHT
BEGIN:STANDARD
TZOFFSETFROM:-0600
TZOFFSETTO:-0700
TZNAME:MST
DTSTART:20191103T080000
END:STANDARD
BEGIN:DAYLIGHT
TZOFFSETFROM:-0700
TZOFFSETTO:-0600
TZNAME:MDT
DTSTART:20200308T090000
END:DAYLIGHT
BEGIN:STANDARD
TZOFFSETFROM:-0600
TZOFFSETTO:-0700
TZNAME:MST
DTSTART:20201101T080000
END:STANDARD
BEGIN:DAYLIGHT
TZOFFSETFROM:-0700
TZOFFSETTO:-0600
TZNAME:MDT
DTSTART:20210314T090000
END:DAYLIGHT
BEGIN:STANDARD
TZOFFSETFROM:-0600
TZOFFSETTO:-0700
TZNAME:MST
DTSTART:20211107T080000
END:STANDARD
BEGIN:DAYLIGHT
TZOFFSETFROM:-0700
TZOFFSETTO:-0600
TZNAME:MDT
DTSTART:20220313T090000
END:DAYLIGHT
BEGIN:STANDARD
TZOFFSETFROM:-0600
TZOFFSETTO:-0700
TZNAME:MST
DTSTART:20221106T080000
END:STANDARD
BEGIN:DAYLIGHT
TZOFFSETFROM:-0700
TZOFFSETTO:-0600
TZNAME:MDT
DTSTART:20230312T090000
END:DAYLIGHT
BEGIN:STANDARD
TZOFFSETFROM:-0600
TZOFFSETTO:-0700
TZNAME:MST
DTSTART:20231105T080000
END:STANDARD
END:VTIMEZONE
BEGIN:VEVENT
DTSTART;TZID=America/Denver:20220423T100000
DTEND;TZID=America/Denver:20220423T160000
DTSTAMP:20260419T143835
CREATED:20220421T013315Z
LAST-MODIFIED:20220421T013315Z
UID:1934-1650708000-1650729600@elkridgepark.org
SUMMARY:FSY KICK-OFF MEETING
DESCRIPTION:All youth are invited to start preparing for this summer’s FSY by attending a KICK-OFF MEETING featuring Sister Michelle Craig.  Sister Craig will speak at 10am.  After she speaks all youth who plan to attend FSY this summer are invited to participate for other FSY events and planning.
URL:https://elkridgepark.org/event/fsy-kick-off-meeting/
LOCATION:North Logan Stake Center\, 2750 North 800 East\, North Logan\, UT\, 84341\, United States
CATEGORIES:Young Men,Young Women
END:VEVENT
BEGIN:VEVENT
DTSTART;VALUE=DATE:20210707
DTEND;VALUE=DATE:20210711
DTSTAMP:20260419T143835
CREATED:20210327T171442Z
LAST-MODIFIED:20210327T171857Z
UID:1599-1625616000-1625961599@elkridgepark.org
SUMMARY:Girls Camp
DESCRIPTION:
URL:https://elkridgepark.org/event/young-women-summer-camp/
LOCATION:UT
CATEGORIES:Young Women
END:VEVENT
BEGIN:VEVENT
DTSTART;VALUE=DATE:20210605
DTEND;VALUE=DATE:20210609
DTSTAMP:20260419T143835
CREATED:20210228T003337Z
LAST-MODIFIED:20210327T171331Z
UID:1552-1622851200-1623196799@elkridgepark.org
SUMMARY:Stake Youth Conference (14 and up)
DESCRIPTION:
URL:https://elkridgepark.org/event/youth-conference-2/
LOCATION:UT
CATEGORIES:Young Men,Young Women
END:VEVENT
BEGIN:VEVENT
DTSTART;TZID=America/Denver:20210421T190000
DTEND;TZID=America/Denver:20210421T200000
DTSTAMP:20260419T143835
CREATED:20210307T025404Z
LAST-MODIFIED:20210307T025404Z
UID:1573-1619031600-1619035200@elkridgepark.org
SUMMARY:Combined Priest/YW Activity
DESCRIPTION:Priests quorum and the oldest YM/YW class will go bowling together.
URL:https://elkridgepark.org/event/combined-priest-yw-activity/
LOCATION:UT
CATEGORIES:Young Men,Young Women
END:VEVENT
BEGIN:VEVENT
DTSTART;TZID=America/Denver:20210421T183000
DTEND;TZID=America/Denver:20210421T203000
DTSTAMP:20260419T143835
CREATED:20210327T172028Z
LAST-MODIFIED:20210327T172028Z
UID:1602-1619029800-1619037000@elkridgepark.org
SUMMARY:RS Activity (YW Invited)
DESCRIPTION:April 2021 Activity Flyer
URL:https://elkridgepark.org/event/rs-activity-yw-invited/
LOCATION:UT
CATEGORIES:Relief Society,Young Women
END:VEVENT
BEGIN:VEVENT
DTSTART;VALUE=DATE:20210405
DTEND;VALUE=DATE:20210410
DTSTAMP:20260419T143835
CREATED:20210307T025249Z
LAST-MODIFIED:20210307T025249Z
UID:1571-1617580800-1618012799@elkridgepark.org
SUMMARY:Spring Break
DESCRIPTION:
URL:https://elkridgepark.org/event/spring-break/
LOCATION:UT
CATEGORIES:Primary,Young Men,Young Women
END:VEVENT
BEGIN:VEVENT
DTSTART;TZID=America/Denver:20210330T190000
DTEND;TZID=America/Denver:20210330T200000
DTSTAMP:20260419T143835
CREATED:20210307T025223Z
LAST-MODIFIED:20210307T025223Z
UID:1569-1617130800-1617134400@elkridgepark.org
SUMMARY:Stake Youth Activity
DESCRIPTION:
URL:https://elkridgepark.org/event/stake-youth-activity-2/
LOCATION:UT
CATEGORIES:Young Men,Young Women
END:VEVENT
BEGIN:VEVENT
DTSTART;TZID=America/Denver:20210303T190000
DTEND;TZID=America/Denver:20210303T200000
DTSTAMP:20260419T143835
CREATED:20210307T025057Z
LAST-MODIFIED:20210307T025057Z
UID:1563-1614798000-1614801600@elkridgepark.org
SUMMARY:Combined YM/YW: Goals
DESCRIPTION:
URL:https://elkridgepark.org/event/combined-ym-yw-goals/
LOCATION:East Building\, 1650 East 2600 North\, North Logan\, UT\, 84341\, United States
CATEGORIES:Young Men,Young Women
END:VEVENT
BEGIN:VEVENT
DTSTART;TZID=America/Denver:20210303T190000
DTEND;TZID=America/Denver:20210303T200000
DTSTAMP:20260419T143835
CREATED:20210228T003238Z
LAST-MODIFIED:20210228T003238Z
UID:1548-1614798000-1614801600@elkridgepark.org
SUMMARY:Youth Celebration
DESCRIPTION:As you all know\, the church introduced a new youth program last year. Each youth was encouraged to set 2 goals in these 4 areas: Spiritual\, Social\, Physical\, and Intellectual. Once Covid hit and we weren’t meeting anymore it became a challenge for us to touch base and follow up on goals we had set and were working on with each other in young women’s. Now that we are meeting more often and in person we hope to support you and your daughters in this program as best we can with the things we do in Young Women’s. \nTo help all of us Refocus and move forward with this amazing program we will be focusing on GOAL SETTING at our YOUTH CELEBRATION on MARCH 3rd. Each year we have this celebration in place of New Beginnings and Young Women in Excellence. This year\, we will be combining with the young men and having the youth rotate through 4 stations with speakers and activities centered on: The WHY of setting goals\, Success Stories\, Goal Ideas\, Tools to reach goals and more. We hope the youth will recognize their potential and feel God’s Love as they become more like him through this program. \nThis night will be more meaningful and successful if the youth come with personal goals in mind. We will be dropping by goal booklets for those that haven’t received one yet. Please take time to sit down with your daughter and encourage them to set 2 goals of their own in each area of development. We hope that they will come that night with 2 specific goals in mind to apply as they go through the different stations.
URL:https://elkridgepark.org/event/youth-celebration/
LOCATION:East Building\, 1650 East 2600 North\, North Logan\, UT\, 84341\, United States
CATEGORIES:Young Men,Young Women
END:VEVENT
BEGIN:VEVENT
DTSTART;TZID=America/Denver:20210113T190000
DTEND;TZID=America/Denver:20210113T200000
DTSTAMP:20260419T143835
CREATED:20210108T220926Z
LAST-MODIFIED:20210108T220926Z
UID:1448-1610564400-1610568000@elkridgepark.org
SUMMARY:PQ: Chef Night
DESCRIPTION:Will be a joint activity with the older young women class. \nMeet at the church.
URL:https://elkridgepark.org/event/pq-chef-night/
LOCATION:East Building\, 1650 East 2600 North\, North Logan\, UT\, 84341\, United States
CATEGORIES:Young Men,Young Women
END:VEVENT
BEGIN:VEVENT
DTSTART;TZID=America/Denver:20200816T140000
DTEND;TZID=America/Denver:20200816T150000
DTSTAMP:20260419T143835
CREATED:20200816T192704Z
LAST-MODIFIED:20200816T192704Z
UID:1163-1597586400-1597590000@elkridgepark.org
SUMMARY:Youth and Parent Fireside (Zoom)
DESCRIPTION:See email from Bishopric for link and password.
URL:https://elkridgepark.org/event/youth-and-parent-fireside-zoom/
LOCATION:UT
CATEGORIES:Young Men,Young Women
END:VEVENT
BEGIN:VEVENT
DTSTART;TZID=America/Denver:20200714T190000
DTEND;TZID=America/Denver:20200714T200000
DTSTAMP:20260419T143835
CREATED:20200708T021456Z
LAST-MODIFIED:20200708T021456Z
UID:1129-1594753200-1594756800@elkridgepark.org
SUMMARY:YM/YW Combined (Zoom/Kahoot)
DESCRIPTION:Priests in charge.
URL:https://elkridgepark.org/event/ym-yw-combined-zoom-kahoot/
LOCATION:UT
CATEGORIES:Young Men,Young Women
END:VEVENT
BEGIN:VEVENT
DTSTART;TZID=America/Denver:20200628T110000
DTEND;TZID=America/Denver:20200628T120000
DTSTAMP:20260419T143835
CREATED:20200613T225734Z
LAST-MODIFIED:20200621T223434Z
UID:1099-1593342000-1593345600@elkridgepark.org
SUMMARY:Ward Youth Council (Zoom)
DESCRIPTION:Meeting ID and password will be sent via email or text
URL:https://elkridgepark.org/event/ward-youth-council/
LOCATION:UT
CATEGORIES:Young Men,Young Women
END:VEVENT
BEGIN:VEVENT
DTSTART;TZID=America/Denver:20200628T083000
DTEND;TZID=America/Denver:20200628T094500
DTSTAMP:20260419T143835
CREATED:20200621T223329Z
LAST-MODIFIED:20200621T223329Z
UID:1114-1593333000-1593337500@elkridgepark.org
SUMMARY:YW Presidency Meeting (Zoom)
DESCRIPTION:Meeting ID and password to be sent via email or text
URL:https://elkridgepark.org/event/yw-presidency-meeting-zoom/
LOCATION:UT
CATEGORIES:Young Women
END:VEVENT
BEGIN:VEVENT
DTSTART;TZID=America/Denver:20200609T190000
DTEND;TZID=America/Denver:20200609T200000
DTSTAMP:20260419T143835
CREATED:20200613T225329Z
LAST-MODIFIED:20200613T225329Z
UID:1091-1591729200-1591732800@elkridgepark.org
SUMMARY:Combined YM/YW Zoom Meeting
DESCRIPTION:
URL:https://elkridgepark.org/event/combined-ym-yw-zoom-meeting/
LOCATION:UT
CATEGORIES:Young Men,Young Women
END:VEVENT
BEGIN:VEVENT
DTSTART;TZID=America/Denver:20200310T190000
DTEND;TZID=America/Denver:20200310T203000
DTSTAMP:20260419T143835
CREATED:20200301T234801Z
LAST-MODIFIED:20200301T234801Z
UID:867-1583866800-1583872200@elkridgepark.org
SUMMARY:Combined YM and YW Activity
DESCRIPTION:Activity to focus on Joseph Smith’s contributions in the Restoration of the Gospel.
URL:https://elkridgepark.org/event/combined-ym-and-yw-activity/
LOCATION:East Building\, 1650 East 2600 North\, North Logan\, UT\, 84341\, United States
CATEGORIES:Young Men,Young Women
END:VEVENT
BEGIN:VEVENT
DTSTART;TZID=America/Denver:20200303T190000
DTEND;TZID=America/Denver:20200303T203000
DTSTAMP:20260419T143835
CREATED:20200301T234713Z
LAST-MODIFIED:20200301T234713Z
UID:865-1583262000-1583267400@elkridgepark.org
SUMMARY:Stake Youth Activity
DESCRIPTION:
URL:https://elkridgepark.org/event/stake-youth-activity/
LOCATION:North Logan Stake Center\, 2750 North 800 East\, North Logan\, UT\, 84341\, United States
CATEGORIES:Young Men,Young Women
END:VEVENT
BEGIN:VEVENT
DTSTART;TZID=America/Denver:20200223T160000
DTEND;TZID=America/Denver:20200223T173000
DTSTAMP:20260419T143835
CREATED:20200209T225214Z
LAST-MODIFIED:20200210T004109Z
UID:681-1582473600-1582479000@elkridgepark.org
SUMMARY:Face to Face Event\, Children and Youth Program
DESCRIPTION:President and Sister Oaks will be hosting a Face to Face vent on the new Children and Youth program to share ideas about how to be successful in becoming more like Christ through this inspired effort. The event will begin at 4 PM\, and will be available through the Church’s website\, it’s Facebook page\, and YouTube.
URL:https://elkridgepark.org/event/face-to-face-event-children-and-youth-program/
LOCATION:UT
CATEGORIES:Primary,Ward,Young Men,Young Women
END:VEVENT
END:VCALENDAR